BEGIN:VCALENDAR
VERSION:2.0
PRODID:icalendar-ruby
CALSCALE:GREGORIAN
METHOD:PUBLISH
BEGIN:VEVENT
DTSTAMP:20260421T212515Z
UID:8-493645@newgrovebaptistchurch.com
DTSTART:20260924T002500Z
DTEND:20260924T010000Z
CLASS:PUBLIC
CREATED:20260421T150104
DESCRIPTION:The New Grove Baptist Church choir leads in worship every Sunda
 y. We welcome singers of all ages and skill levels\, and anyone who wants 
 to join is always invited. We meet every Wednesday night for practice. We 
 are working on new music and enjoy a great time of fellowship together. Se
 e Amy Beard for more information. 
LAST-MODIFIED:20260421T150104
LOCATION:
SUMMARY:Choir Practice
URL;VALUE=URI:https://www.newgrovebaptistchurch.com/events/choir-practice/2
 026-09-23
ATTACH;FILENAME=FullSizeRender.jpeg;FMTTYPE=image/jpeg:https://dq5pwpg1q8ru
 0.cloudfront.net/2025/12/22/17/23/06/ccf9ea04-816a-4056-a868-80ab1eba8e32/
 FullSizeRender.jpeg
END:VEVENT
END:VCALENDAR
